Package: PADOG Version: 1.48.0 Command: rm -rf PADOG.buildbin-libdir && mkdir PADOG.buildbin-libdir && /Users/biocbuild/BBS/utils/build-universal.sh PADOG_1.48.0.tar.gz /Library/Frameworks/R.framework/Resources/bin/R PADOG.buildbin-libdir StartedAt: 2025-02-04 13:43:24 -0500 (Tue, 04 Feb 2025) EndedAt: 2025-02-04 13:44:21 -0500 (Tue, 04 Feb 2025) EllapsedTime: 57.4 seconds RetCode: 0 Status: OK PackageFile: PADOG_1.48.0.tgz PackageFileSize: 399.3 KiB