Package: PADOG Version: 1.48.0 Command: /Library/Frameworks/R.framework/Resources/bin/R CMD build --keep-empty-dirs --no-resave-data PADOG StartedAt: 2025-02-03 21:05:26 -0500 (Mon, 03 Feb 2025) EndedAt: 2025-02-03 21:10:41 -0500 (Mon, 03 Feb 2025) EllapsedTime: 315.6 seconds RetCode: 0 Status: OK PackageFile: PADOG_1.48.0.tar.gz PackageFileSize: 369.4 KiB