Package: PADOG Version: 1.48.0 Command: /Library/Frameworks/R.framework/Resources/bin/R CMD check --install=check:PADOG.install-out.txt --library=/Library/Frameworks/R.framework/Resources/library --no-vignettes --timings PADOG_1.48.0.tar.gz StartedAt: 2025-02-04 07:41:30 -0500 (Tue, 04 Feb 2025) EndedAt: 2025-02-04 07:49:12 -0500 (Tue, 04 Feb 2025) EllapsedTime: 461.7 seconds RetCode: 0 Status: OK CheckDir: PADOG.Rcheck Warnings: 0