Package: PADOG Version: 1.48.0 Command: /Library/Frameworks/R.framework/Resources/bin/R CMD INSTALL PADOG StartedAt: 2025-02-03 15:51:50 -0500 (Mon, 03 Feb 2025) EndedAt: 2025-02-03 15:52:21 -0500 (Mon, 03 Feb 2025) EllapsedTime: 30.8 seconds RetCode: 0 Status: OK