Package: PADOG Version: 1.48.0 Command: /home/biocbuild/bbs-3.20-bioc/R/bin/R CMD INSTALL PADOG StartedAt: 2025-02-03 15:28:00 -0500 (Mon, 03 Feb 2025) EndedAt: 2025-02-03 15:28:14 -0500 (Mon, 03 Feb 2025) EllapsedTime: 13.2 seconds RetCode: 0 Status: OK