Package: PADOG Version: 1.48.0 Command: /home/biocbuild/R/R/bin/R CMD build --keep-empty-dirs --no-resave-data PADOG StartedAt: 2025-02-04 01:42:39 -0000 (Tue, 04 Feb 2025) EndedAt: 2025-02-04 01:45:12 -0000 (Tue, 04 Feb 2025) EllapsedTime: 153.3 seconds RetCode: 0 Status: OK PackageFile: PADOG_1.48.0.tar.gz PackageFileSize: 359.7 KiB