Package: PADOG Version: 1.48.0 Command: /home/biocbuild/R/R/bin/R CMD check --install=check:PADOG.install-out.txt --library=/home/biocbuild/R/R/site-library --no-vignettes --timings PADOG_1.48.0.tar.gz StartedAt: 2025-02-04 09:38:58 -0000 (Tue, 04 Feb 2025) EndedAt: 2025-02-04 09:44:15 -0000 (Tue, 04 Feb 2025) EllapsedTime: 316.6 seconds RetCode: 0 Status: OK CheckDir: PADOG.Rcheck Warnings: 0