Package: PANR Version: 1.52.0 Command: /Library/Frameworks/R.framework/Resources/bin/R CMD build --keep-empty-dirs --no-resave-data PANR StartedAt: 2025-02-04 05:17:29 -0500 (Tue, 04 Feb 2025) EndedAt: 2025-02-04 05:17:48 -0500 (Tue, 04 Feb 2025) EllapsedTime: 19.6 seconds RetCode: 0 Status: OK PackageFile: PANR_1.52.0.tar.gz PackageFileSize: 2.113 MiB