Package: PANR Version: 1.52.0 Command: /home/biocbuild/bbs-3.20-bioc/R/bin/R CMD build --keep-empty-dirs --no-resave-data --md5 PANR StartedAt: 2025-02-03 18:39:54 -0500 (Mon, 03 Feb 2025) EndedAt: 2025-02-03 18:40:11 -0500 (Mon, 03 Feb 2025) EllapsedTime: 17.0 seconds RetCode: 0 Status: OK PackageFile: PANR_1.52.0.tar.gz PackageFileSize: 2.115 MiB