Package: PANR Version: 1.52.0 Command: /home/biocbuild/bbs-3.20-bioc/R/bin/R CMD check --install=check:PANR.install-out.txt --library=/home/biocbuild/bbs-3.20-bioc/R/site-library --timings PANR_1.52.0.tar.gz StartedAt: 2025-02-04 01:04:23 -0500 (Tue, 04 Feb 2025) EndedAt: 2025-02-04 01:05:10 -0500 (Tue, 04 Feb 2025) EllapsedTime: 47.1 seconds RetCode: 0 Status: OK CheckDir: PANR.Rcheck Warnings: 0