Package: PANR Version: 1.52.0 Command: rm -rf PANR.buildbin-libdir && mkdir PANR.buildbin-libdir && F:\biocbuild\bbs-3.20-bioc\R\bin\R.exe CMD INSTALL --build --library=PANR.buildbin-libdir PANR_1.52.0.tar.gz StartedAt: 2025-02-04 09:08:37 -0500 (Tue, 04 Feb 2025) EndedAt: 2025-02-04 09:09:02 -0500 (Tue, 04 Feb 2025) EllapsedTime: 25.1 seconds RetCode: 0 Status: OK PackageFile: PANR_1.52.0.zip PackageFileSize: 2.007 MiB