Package: PANR Version: 1.52.0 Command: F:\biocbuild\bbs-3.20-bioc\R\bin\R.exe CMD INSTALL PANR StartedAt: 2025-02-03 15:43:50 -0500 (Mon, 03 Feb 2025) EndedAt: 2025-02-03 15:44:16 -0500 (Mon, 03 Feb 2025) EllapsedTime: 25.7 seconds RetCode: 0 Status: OK