Package: PANR Version: 1.52.0 Command: /home/biocbuild/R/R/bin/R CMD INSTALL PANR StartedAt: 2025-02-03 20:28:45 -0000 (Mon, 03 Feb 2025) EndedAt: 2025-02-03 20:28:59 -0000 (Mon, 03 Feb 2025) EllapsedTime: 14.5 seconds RetCode: 0 Status: OK