Package: PAST Version: 1.22.0 Command: /Library/Frameworks/R.framework/Resources/bin/R CMD build --keep-empty-dirs --no-resave-data PAST StartedAt: 2025-02-11 05:15:35 -0500 (Tue, 11 Feb 2025) EndedAt: 2025-02-11 05:18:01 -0500 (Tue, 11 Feb 2025) EllapsedTime: 145.4 seconds RetCode: 0 Status: OK PackageFile: PAST_1.22.0.tar.gz PackageFileSize: 954.4 KiB