Package: PAST Version: 1.22.0 Command: /Library/Frameworks/R.framework/Resources/bin/R CMD INSTALL PAST StartedAt: 2025-02-03 15:48:04 -0500 (Mon, 03 Feb 2025) EndedAt: 2025-02-03 15:48:43 -0500 (Mon, 03 Feb 2025) EllapsedTime: 38.4 seconds RetCode: 0 Status: OK