Package: PAST Version: 1.22.0 Command: rm -rf PAST.buildbin-libdir && mkdir PAST.buildbin-libdir && /Users/biocbuild/BBS/utils/build-universal.sh PAST_1.22.0.tar.gz /Library/Frameworks/R.framework/Resources/bin/R PAST.buildbin-libdir StartedAt: 2025-02-04 13:44:28 -0500 (Tue, 04 Feb 2025) EndedAt: 2025-02-04 13:46:29 -0500 (Tue, 04 Feb 2025) EllapsedTime: 120.2 seconds RetCode: 0 Status: OK PackageFile: PAST_1.22.0.tgz PackageFileSize: 1008 KiB