Package: PAST Version: 1.22.0 Command: /Library/Frameworks/R.framework/Resources/bin/R CMD build --keep-empty-dirs --no-resave-data PAST StartedAt: 2025-02-03 21:09:54 -0500 (Mon, 03 Feb 2025) EndedAt: 2025-02-03 21:15:46 -0500 (Mon, 03 Feb 2025) EllapsedTime: 351.5 seconds RetCode: 0 Status: OK PackageFile: PAST_1.22.0.tar.gz PackageFileSize: 954.3 KiB