Package: PAST Version: 1.22.0 Command: /home/biocbuild/bbs-3.20-bioc/R/bin/R CMD INSTALL PAST StartedAt: 2025-02-10 15:26:19 -0500 (Mon, 10 Feb 2025) EndedAt: 2025-02-10 15:26:49 -0500 (Mon, 10 Feb 2025) EllapsedTime: 30.0 seconds RetCode: 0 Status: OK