Package: PAST Version: 1.22.0 Command: /home/biocbuild/R/R/bin/R CMD build --keep-empty-dirs --no-resave-data PAST StartedAt: 2025-02-04 01:45:12 -0000 (Tue, 04 Feb 2025) EndedAt: 2025-02-04 01:48:03 -0000 (Tue, 04 Feb 2025) EllapsedTime: 171.2 seconds RetCode: 0 Status: OK PackageFile: PAST_1.22.0.tar.gz PackageFileSize: 954.8 KiB