Package: PCAN Version: 1.34.0 Command: /Library/Frameworks/R.framework/Resources/bin/R CMD build --keep-empty-dirs --no-resave-data PCAN StartedAt: 2025-02-04 05:21:53 -0500 (Tue, 04 Feb 2025) EndedAt: 2025-02-04 05:23:05 -0500 (Tue, 04 Feb 2025) EllapsedTime: 71.6 seconds RetCode: 0 Status: OK PackageFile: PCAN_1.34.0.tar.gz PackageFileSize: 2.565 MiB