Package: PCAN Version: 1.34.0 Command: /Library/Frameworks/R.framework/Resources/bin/R CMD check --install=check:PCAN.install-out.txt --library=/Library/Frameworks/R.framework/Resources/library --no-vignettes --timings PCAN_1.34.0.tar.gz StartedAt: 2025-02-11 08:11:12 -0500 (Tue, 11 Feb 2025) EndedAt: 2025-02-11 08:18:23 -0500 (Tue, 11 Feb 2025) EllapsedTime: 431.3 seconds RetCode: 0 Status: OK CheckDir: PCAN.Rcheck Warnings: 0