Package: PCAN Version: 1.34.0 Command: chmod a+r PCAN -R && F:\biocbuild\bbs-3.20-bioc\R\bin\R.exe CMD build --keep-empty-dirs --no-resave-data PCAN StartedAt: 2025-02-03 21:07:44 -0500 (Mon, 03 Feb 2025) EndedAt: 2025-02-03 21:10:08 -0500 (Mon, 03 Feb 2025) EllapsedTime: 144.0 seconds RetCode: 0 Status: OK PackageFile: PCAN_1.34.0.tar.gz PackageFileSize: 2.177 MiB