Package: PCAN Version: 1.34.0 Command: F:\biocbuild\bbs-3.20-bioc\R\bin\R.exe CMD INSTALL PCAN StartedAt: 2025-02-03 15:52:02 -0500 (Mon, 03 Feb 2025) EndedAt: 2025-02-03 15:52:34 -0500 (Mon, 03 Feb 2025) EllapsedTime: 31.9 seconds RetCode: 0 Status: OK