Package: PCAN Version: 1.34.0 Command: /home/biocbuild/R/R/bin/R CMD build --keep-empty-dirs --no-resave-data PCAN StartedAt: 2025-02-04 01:46:43 -0000 (Tue, 04 Feb 2025) EndedAt: 2025-02-04 01:48:01 -0000 (Tue, 04 Feb 2025) EllapsedTime: 78.1 seconds RetCode: 0 Status: OK PackageFile: PCAN_1.34.0.tar.gz PackageFileSize: 2.262 MiB