Package: PDATK Version: 1.14.0 Command: /Library/Frameworks/R.framework/Resources/bin/R CMD build --keep-empty-dirs --no-resave-data PDATK StartedAt: 2025-02-03 21:12:09 -0500 (Mon, 03 Feb 2025) EndedAt: 2025-02-03 21:16:33 -0500 (Mon, 03 Feb 2025) EllapsedTime: 264.4 seconds RetCode: 0 Status: OK PackageFile: PDATK_1.14.0.tar.gz PackageFileSize: 3.004 MiB