Package: PDATK Version: 1.14.0 Command: /Library/Frameworks/R.framework/Resources/bin/R CMD check --install=check:PDATK.install-out.txt --library=/Library/Frameworks/R.framework/Resources/library --no-vignettes --timings PDATK_1.14.0.tar.gz StartedAt: 2025-02-04 07:49:16 -0500 (Tue, 04 Feb 2025) EndedAt: 2025-02-04 08:00:21 -0500 (Tue, 04 Feb 2025) EllapsedTime: 665.7 seconds RetCode: 0 Status: WARNINGS CheckDir: PDATK.Rcheck Warnings: 2