Package: PDATK Version: 1.14.0 Command: rm -rf PDATK.buildbin-libdir && mkdir PDATK.buildbin-libdir && F:\biocbuild\bbs-3.20-bioc\R\bin\R.exe CMD INSTALL --build --library=PDATK.buildbin-libdir PDATK_1.14.0.tar.gz StartedAt: 2025-02-11 09:06:42 -0500 (Tue, 11 Feb 2025) EndedAt: 2025-02-11 09:08:58 -0500 (Tue, 11 Feb 2025) EllapsedTime: 135.6 seconds RetCode: 0 Status: OK PackageFile: PDATK_1.14.0.zip PackageFileSize: 2.556 MiB