Package: PDATK Version: 1.14.0 Command: chmod a+r PDATK -R && F:\biocbuild\bbs-3.20-bioc\R\bin\R.exe CMD build --keep-empty-dirs --no-resave-data PDATK StartedAt: 2025-02-10 21:01:20 -0500 (Mon, 10 Feb 2025) EndedAt: 2025-02-10 21:11:11 -0500 (Mon, 10 Feb 2025) EllapsedTime: 590.8 seconds RetCode: 0 Status: OK PackageFile: PDATK_1.14.0.tar.gz PackageFileSize: 1.677 MiB