Package: PDATK Version: 1.14.0 Command: /home/biocbuild/R/R/bin/R CMD build --keep-empty-dirs --no-resave-data PDATK StartedAt: 2025-02-04 01:47:04 -0000 (Tue, 04 Feb 2025) EndedAt: 2025-02-04 01:49:24 -0000 (Tue, 04 Feb 2025) EllapsedTime: 139.1 seconds RetCode: 0 Status: OK PackageFile: PDATK_1.14.0.tar.gz PackageFileSize: 1.925 MiB