Package: PDATK Version: 1.14.0 Command: /home/biocbuild/R/R/bin/R CMD INSTALL PDATK StartedAt: 2025-02-03 21:24:56 -0000 (Mon, 03 Feb 2025) EndedAt: 2025-02-03 21:25:48 -0000 (Mon, 03 Feb 2025) EllapsedTime: 52.1 seconds RetCode: 0 Status: OK