Package: PICS Version: 2.50.0 Command: rm -rf PICS.buildbin-libdir && mkdir PICS.buildbin-libdir && /Users/biocbuild/BBS/utils/build-universal.sh PICS_2.50.0.tar.gz /Library/Frameworks/R.framework/Resources/bin/R PICS.buildbin-libdir StartedAt: 2025-02-05 17:07:37 -0500 (Wed, 05 Feb 2025) EndedAt: 2025-02-05 17:08:21 -0500 (Wed, 05 Feb 2025) EllapsedTime: 44.1 seconds RetCode: 0 Status: OK PackageFile: PICS_2.50.0.tgz PackageFileSize: 1.538 MiB