Package: PICS Version: 2.50.0 Command: /Library/Frameworks/R.framework/Resources/bin/R CMD build --keep-empty-dirs --no-resave-data PICS StartedAt: 2025-02-04 05:32:59 -0500 (Tue, 04 Feb 2025) EndedAt: 2025-02-04 05:34:05 -0500 (Tue, 04 Feb 2025) EllapsedTime: 66.1 seconds RetCode: 0 Status: OK PackageFile: PICS_2.50.0.tar.gz PackageFileSize: 723.2 KiB