Package: PICS Version: 2.50.0 Command: /Library/Frameworks/R.framework/Resources/bin/R CMD check --install=check:PICS.install-out.txt --library=/Library/Frameworks/R.framework/Resources/library --no-vignettes --timings PICS_2.50.0.tar.gz StartedAt: 2025-02-05 05:30:09 -0500 (Wed, 05 Feb 2025) EndedAt: 2025-02-05 05:33:28 -0500 (Wed, 05 Feb 2025) EllapsedTime: 199.1 seconds RetCode: 0 Status: WARNINGS CheckDir: PICS.Rcheck Warnings: 1