Package: PICS Version: 2.50.0 Command: rm -rf PICS.buildbin-libdir && mkdir PICS.buildbin-libdir && /Users/biocbuild/BBS/utils/build-universal.sh PICS_2.50.0.tar.gz /Library/Frameworks/R.framework/Resources/bin/R PICS.buildbin-libdir StartedAt: 2025-02-04 13:47:19 -0500 (Tue, 04 Feb 2025) EndedAt: 2025-02-04 13:49:17 -0500 (Tue, 04 Feb 2025) EllapsedTime: 118.6 seconds RetCode: 0 Status: OK PackageFile: PICS_2.50.0.tgz PackageFileSize: 1.643 MiB