Package: PICS Version: 2.50.0 Command: /Library/Frameworks/R.framework/Resources/bin/R CMD build --keep-empty-dirs --no-resave-data PICS StartedAt: 2025-02-03 21:18:16 -0500 (Mon, 03 Feb 2025) EndedAt: 2025-02-03 21:20:23 -0500 (Mon, 03 Feb 2025) EllapsedTime: 127.0 seconds RetCode: 0 Status: OK PackageFile: PICS_2.50.0.tar.gz PackageFileSize: 723.2 KiB