Package: PICS Version: 2.50.0 Command: /Library/Frameworks/R.framework/Resources/bin/R CMD check --install=check:PICS.install-out.txt --library=/Library/Frameworks/R.framework/Resources/library --no-vignettes --timings PICS_2.50.0.tar.gz StartedAt: 2025-02-11 08:21:56 -0500 (Tue, 11 Feb 2025) EndedAt: 2025-02-11 08:27:53 -0500 (Tue, 11 Feb 2025) EllapsedTime: 357.6 seconds RetCode: 0 Status: OK CheckDir: PICS.Rcheck Warnings: 0