Package: PICS Version: 2.50.0 Command: /Library/Frameworks/R.framework/Resources/bin/R CMD INSTALL PICS StartedAt: 2025-02-03 15:38:13 -0500 (Mon, 03 Feb 2025) EndedAt: 2025-02-03 15:39:17 -0500 (Mon, 03 Feb 2025) EllapsedTime: 64.5 seconds RetCode: 0 Status: OK