Package: PICS Version: 2.50.0 Command: /home/biocbuild/bbs-3.20-bioc/R/bin/R CMD build --keep-empty-dirs --no-resave-data --md5 PICS StartedAt: 2025-01-30 18:34:54 -0500 (Thu, 30 Jan 2025) EndedAt: 2025-01-30 18:35:43 -0500 (Thu, 30 Jan 2025) EllapsedTime: 49.1 seconds RetCode: 0 Status: OK PackageFile: PICS_2.50.0.tar.gz PackageFileSize: 709.8 KiB