Package: PICS Version: 2.50.0 Command: rm -rf PICS.buildbin-libdir && mkdir PICS.buildbin-libdir && F:\biocbuild\bbs-3.20-bioc\R\bin\R.exe CMD INSTALL --build --library=PICS.buildbin-libdir PICS_2.50.0.tar.gz StartedAt: 2025-02-04 09:10:56 -0500 (Tue, 04 Feb 2025) EndedAt: 2025-02-04 09:12:09 -0500 (Tue, 04 Feb 2025) EllapsedTime: 73.0 seconds RetCode: 0 Status: OK PackageFile: PICS_2.50.0.zip PackageFileSize: 1.479 MiB