Package: PICS Version: 2.50.0 Command: /home/biocbuild/R/R/bin/R CMD INSTALL PICS StartedAt: 2025-02-03 20:38:43 -0000 (Mon, 03 Feb 2025) EndedAt: 2025-02-03 20:39:24 -0000 (Mon, 03 Feb 2025) EllapsedTime: 41.6 seconds RetCode: 0 Status: OK