Package: PING Version: 2.50.0 Command: /Library/Frameworks/R.framework/Resources/bin/R CMD check --install=check:PING.install-out.txt --library=/Library/Frameworks/R.framework/Resources/library --no-vignettes --timings PING_2.50.0.tar.gz StartedAt: 2025-02-05 05:31:16 -0500 (Wed, 05 Feb 2025) EndedAt: 2025-02-05 05:37:02 -0500 (Wed, 05 Feb 2025) EllapsedTime: 346.0 seconds RetCode: 0 Status: WARNINGS CheckDir: PING.Rcheck Warnings: 4