Package: PING Version: 2.50.0 Command: /Library/Frameworks/R.framework/Resources/bin/R CMD INSTALL PING StartedAt: 2025-02-03 18:20:10 -0500 (Mon, 03 Feb 2025) EndedAt: 2025-02-03 18:21:20 -0500 (Mon, 03 Feb 2025) EllapsedTime: 70.3 seconds RetCode: 0 Status: OK