Package: PING Version: 2.50.0 Command: rm -rf PING.buildbin-libdir && mkdir PING.buildbin-libdir && /Users/biocbuild/BBS/utils/build-universal.sh PING_2.50.0.tar.gz /Library/Frameworks/R.framework/Resources/bin/R PING.buildbin-libdir StartedAt: 2025-02-04 13:47:20 -0500 (Tue, 04 Feb 2025) EndedAt: 2025-02-04 13:50:51 -0500 (Tue, 04 Feb 2025) EllapsedTime: 210.9 seconds RetCode: 0 Status: OK PackageFile: PING_2.50.0.tgz PackageFileSize: 5.615 MiB