Package: PING Version: 2.50.0 Command: /Library/Frameworks/R.framework/Resources/bin/R CMD build --keep-empty-dirs --no-resave-data PING StartedAt: 2025-02-03 21:18:22 -0500 (Mon, 03 Feb 2025) EndedAt: 2025-02-03 21:18:26 -0500 (Mon, 03 Feb 2025) EllapsedTime: 4.3 seconds RetCode: 0 Status: OK PackageFile: PING_2.50.0.tar.gz PackageFileSize: 4.51 MiB