Package: PING Version: 2.50.0 Command: /Library/Frameworks/R.framework/Resources/bin/R CMD INSTALL PING StartedAt: 2025-02-03 16:51:20 -0500 (Mon, 03 Feb 2025) EndedAt: 2025-02-03 16:53:02 -0500 (Mon, 03 Feb 2025) EllapsedTime: 101.7 seconds RetCode: 0 Status: OK