Package: PING Version: 2.50.0 Command: /home/biocbuild/bbs-3.20-bioc/R/bin/R CMD build --keep-empty-dirs --no-resave-data --md5 PING StartedAt: 2025-02-03 18:44:31 -0500 (Mon, 03 Feb 2025) EndedAt: 2025-02-03 18:44:33 -0500 (Mon, 03 Feb 2025) EllapsedTime: 2.0 seconds RetCode: 0 Status: OK PackageFile: PING_2.50.0.tar.gz PackageFileSize: 4.511 MiB