Package: PING Version: 2.50.0 Command: F:\biocbuild\bbs-3.20-bioc\R\bin\R.exe CMD INSTALL PING StartedAt: 2025-01-30 16:59:09 -0500 (Thu, 30 Jan 2025) EndedAt: 2025-01-30 17:00:22 -0500 (Thu, 30 Jan 2025) EllapsedTime: 73.3 seconds RetCode: 0 Status: OK