Package: PING Version: 2.50.0 Command: /home/biocbuild/R/R/bin/R CMD build --keep-empty-dirs --no-resave-data PING StartedAt: 2025-02-04 01:51:43 -0000 (Tue, 04 Feb 2025) EndedAt: 2025-02-04 01:51:45 -0000 (Tue, 04 Feb 2025) EllapsedTime: 2.0 seconds RetCode: 0 Status: OK PackageFile: PING_2.50.0.tar.gz PackageFileSize: 4.51 MiB