Package: PING Version: 2.50.0 Command: /home/biocbuild/R/R/bin/R CMD INSTALL PING StartedAt: 2025-02-03 21:24:40 -0000 (Mon, 03 Feb 2025) EndedAt: 2025-02-03 21:25:50 -0000 (Mon, 03 Feb 2025) EllapsedTime: 70.6 seconds RetCode: 0 Status: OK