Package: PIPETS Version: 1.2.0 Command: /Library/Frameworks/R.framework/Resources/bin/R CMD check --install=check:PIPETS.install-out.txt --library=/Library/Frameworks/R.framework/Resources/library --no-vignettes --timings PIPETS_1.2.0.tar.gz StartedAt: 2025-02-11 08:24:16 -0500 (Tue, 11 Feb 2025) EndedAt: 2025-02-11 08:27:06 -0500 (Tue, 11 Feb 2025) EllapsedTime: 170.0 seconds RetCode: 0 Status: OK CheckDir: PIPETS.Rcheck Warnings: 0